BEGIN:VCALENDAR
PRODID:-//Airbnb Inc//Hosting Calendar 1.0//EN
CALSCALE:GREGORIAN
VERSION:2.0
BEGIN:VEVENT
DTSTAMP:20260421T203843Z
DTSTART;VALUE=DATE:20260419
DTEND;VALUE=DATE:20260421
SUMMARY:Reserved
UID:1418fb94e984-f33062d92da8c6788db8d467ec0a7fd9@airbnb.com
DESCRIPTION:Reservation URL: https://www.airbnb.com/hosting/reservations/de
 tails/HMADFBMFF4\nPhone Number (Last 4 Digits): 8025
END:VEVENT
BEGIN:VEVENT
DTSTAMP:20260421T203843Z
DTSTART;VALUE=DATE:20260421
DTEND;VALUE=DATE:20260424
SUMMARY:Reserved
UID:1418fb94e984-164957dad912188750507d39d1a8fc6d@airbnb.com
DESCRIPTION:Reservation URL: https://www.airbnb.com/hosting/reservations/de
 tails/HM84ET3HCB\nPhone Number (Last 4 Digits): 4557
END:VEVENT
BEGIN:VEVENT
DTSTAMP:20260421T203843Z
DTSTART;VALUE=DATE:20260424
DTEND;VALUE=DATE:20260427
SUMMARY:Reserved
UID:1418fb94e984-4b95a53116902743a50c6664923247cc@airbnb.com
DESCRIPTION:Reservation URL: https://www.airbnb.com/hosting/reservations/de
 tails/HM9FTJ32WA\nPhone Number (Last 4 Digits): 3318
END:VEVENT
BEGIN:VEVENT
DTSTAMP:20260421T203843Z
DTSTART;VALUE=DATE:20260427
DTEND;VALUE=DATE:20260501
SUMMARY:Reserved
UID:1418fb94e984-bc78fc4bb77506abf0a2f926b8c4e1d7@airbnb.com
DESCRIPTION:Reservation URL: https://www.airbnb.com/hosting/reservations/de
 tails/HMMPDNT38N\nPhone Number (Last 4 Digits): 2860
END:VEVENT
BEGIN:VEVENT
DTSTAMP:20260421T203843Z
DTSTART;VALUE=DATE:20260501
DTEND;VALUE=DATE:20260503
SUMMARY:Reserved
UID:1418fb94e984-bd0414bbe5c3b00bceb60c99ef9a9c7e@airbnb.com
DESCRIPTION:Reservation URL: https://www.airbnb.com/hosting/reservations/de
 tails/HMTFHM82DD\nPhone Number (Last 4 Digits): 9673
END:VEVENT
BEGIN:VEVENT
DTSTAMP:20260421T203843Z
DTSTART;VALUE=DATE:20260505
DTEND;VALUE=DATE:20260507
SUMMARY:Reserved
UID:1418fb94e984-1b918fc4ccb18a43b44b961aeafe11bf@airbnb.com
DESCRIPTION:Reservation URL: https://www.airbnb.com/hosting/reservations/de
 tails/HMKBYP8WWJ\nPhone Number (Last 4 Digits): 5250
END:VEVENT
BEGIN:VEVENT
DTSTAMP:20260421T203843Z
DTSTART;VALUE=DATE:20260507
DTEND;VALUE=DATE:20260512
SUMMARY:Reserved
UID:1418fb94e984-ae5f081211b298b9951512beff3414e0@airbnb.com
DESCRIPTION:Reservation URL: https://www.airbnb.com/hosting/reservations/de
 tails/HMQE3EKN2E\nPhone Number (Last 4 Digits): 4736
END:VEVENT
BEGIN:VEVENT
DTSTAMP:20260421T203843Z
DTSTART;VALUE=DATE:20260515
DTEND;VALUE=DATE:20260517
SUMMARY:Reserved
UID:1418fb94e984-52fa24f610d33486f06dafd00449481c@airbnb.com
DESCRIPTION:Reservation URL: https://www.airbnb.com/hosting/reservations/de
 tails/HMRNNXECXE\nPhone Number (Last 4 Digits): 0627
END:VEVENT
BEGIN:VEVENT
DTSTAMP:20260421T203843Z
DTSTART;VALUE=DATE:20260519
DTEND;VALUE=DATE:20260522
SUMMARY:Reserved
UID:1418fb94e984-52184c1ed269eda34d266272adf1cebd@airbnb.com
DESCRIPTION:Reservation URL: https://www.airbnb.com/hosting/reservations/de
 tails/HM5YFXWE3A\nPhone Number (Last 4 Digits): 4109
END:VEVENT
BEGIN:VEVENT
DTSTAMP:20260421T203843Z
DTSTART;VALUE=DATE:20260522
DTEND;VALUE=DATE:20260525
SUMMARY:Reserved
UID:1418fb94e984-877e02df2a7c3a253635a1b4ebd113b2@airbnb.com
DESCRIPTION:Reservation URL: https://www.airbnb.com/hosting/reservations/de
 tails/HMTN9Y3QNZ\nPhone Number (Last 4 Digits): 6865
END:VEVENT
BEGIN:VEVENT
DTSTAMP:20260421T203843Z
DTSTART;VALUE=DATE:20260525
DTEND;VALUE=DATE:20260529
SUMMARY:Reserved
UID:1418fb94e984-31dc1ddfd07ef9e90c0a9a4543e14c84@airbnb.com
DESCRIPTION:Reservation URL: https://www.airbnb.com/hosting/reservations/de
 tails/HMMWDBQED2\nPhone Number (Last 4 Digits): 1907
END:VEVENT
BEGIN:VEVENT
DTSTAMP:20260421T203843Z
DTSTART;VALUE=DATE:20260529
DTEND;VALUE=DATE:20260601
SUMMARY:Reserved
UID:1418fb94e984-b0f62addeb414d2cfea5d62e052e55ab@airbnb.com
DESCRIPTION:Reservation URL: https://www.airbnb.com/hosting/reservations/de
 tails/HMKQXR95EK\nPhone Number (Last 4 Digits): 4497
END:VEVENT
BEGIN:VEVENT
DTSTAMP:20260421T203843Z
DTSTART;VALUE=DATE:20260601
DTEND;VALUE=DATE:20260604
SUMMARY:Reserved
UID:1418fb94e984-61ea57a37ebc79151cd9cd5521efa234@airbnb.com
DESCRIPTION:Reservation URL: https://www.airbnb.com/hosting/reservations/de
 tails/HM8SEJFDDW\nPhone Number (Last 4 Digits): 2545
END:VEVENT
BEGIN:VEVENT
DTSTAMP:20260421T203843Z
DTSTART;VALUE=DATE:20260607
DTEND;VALUE=DATE:20260611
SUMMARY:Reserved
UID:1418fb94e984-581c36e41e69f2293853b44e152865d5@airbnb.com
DESCRIPTION:Reservation URL: https://www.airbnb.com/hosting/reservations/de
 tails/HM82WDSEAQ\nPhone Number (Last 4 Digits): 7060
END:VEVENT
BEGIN:VEVENT
DTSTAMP:20260421T203843Z
DTSTART;VALUE=DATE:20260615
DTEND;VALUE=DATE:20260619
SUMMARY:Reserved
UID:1418fb94e984-0520bbe1055d6f3fc2f58e6ca06b5522@airbnb.com
DESCRIPTION:Reservation URL: https://www.airbnb.com/hosting/reservations/de
 tails/HM999FSYAF\nPhone Number (Last 4 Digits): 2699
END:VEVENT
BEGIN:VEVENT
DTSTAMP:20260421T203843Z
DTSTART;VALUE=DATE:20260624
DTEND;VALUE=DATE:20260701
SUMMARY:Reserved
UID:1418fb94e984-d53bdbe6f14a9243c82f7fd054a0c0aa@airbnb.com
DESCRIPTION:Reservation URL: https://www.airbnb.com/hosting/reservations/de
 tails/HMC593NBA5\nPhone Number (Last 4 Digits): 1921
END:VEVENT
BEGIN:VEVENT
DTSTAMP:20260421T203843Z
DTSTART;VALUE=DATE:20260701
DTEND;VALUE=DATE:20260705
SUMMARY:Reserved
UID:1418fb94e984-b7956de69303d50e9996806074c4594f@airbnb.com
DESCRIPTION:Reservation URL: https://www.airbnb.com/hosting/reservations/de
 tails/HMQJ8PTXTK\nPhone Number (Last 4 Digits): 3338
END:VEVENT
BEGIN:VEVENT
DTSTAMP:20260421T203843Z
DTSTART;VALUE=DATE:20260706
DTEND;VALUE=DATE:20260712
SUMMARY:Reserved
UID:1418fb94e984-616eb8461adcfd6038c94f25e7c4dfbe@airbnb.com
DESCRIPTION:Reservation URL: https://www.airbnb.com/hosting/reservations/de
 tails/HMTKBHXS2D\nPhone Number (Last 4 Digits): 1058
END:VEVENT
BEGIN:VEVENT
DTSTAMP:20260421T203843Z
DTSTART;VALUE=DATE:20260712
DTEND;VALUE=DATE:20260719
SUMMARY:Reserved
UID:1418fb94e984-a7829378de4a1080cb2f2b11ee9efa8f@airbnb.com
DESCRIPTION:Reservation URL: https://www.airbnb.com/hosting/reservations/de
 tails/HMT3ZYRQ2X\nPhone Number (Last 4 Digits): 5563
END:VEVENT
BEGIN:VEVENT
DTSTAMP:20260421T203843Z
DTSTART;VALUE=DATE:20261001
DTEND;VALUE=DATE:20261029
SUMMARY:Reserved
UID:1418fb94e984-05023f81fde26f9c9d815dc177de8bf1@airbnb.com
DESCRIPTION:Reservation URL: https://www.airbnb.com/hosting/reservations/de
 tails/HMDZDXEQ9D\nPhone Number (Last 4 Digits): 3762
END:VEVENT
BEGIN:VEVENT
DTSTAMP:20260421T203843Z
DTSTART;VALUE=DATE:20270205
DTEND;VALUE=DATE:20270208
SUMMARY:Airbnb (Not available)
UID:7f662ec65913-c15c5d207c3ae7376430ebafde35c976@airbnb.com
END:VEVENT
BEGIN:VEVENT
DTSTAMP:20260421T203843Z
DTSTART;VALUE=DATE:20270219
DTEND;VALUE=DATE:20270222
SUMMARY:Airbnb (Not available)
UID:7f662ec65913-a725cce8de440ee44b20a2dfba03d0a4@airbnb.com
END:VEVENT
END:VCALENDAR
